Workbook
Name achievable: Tables!$H$68
Name answer1: Tables!$L$4
Name answer2: Tables!$L$15
Name answer3: Tables!$L$21
Name answer4: Tables!$L$27
Name answer5: Tables!$L$34
Name answer6: Tables!$L$45
Name answer7: Tables!$L$54
Name answer8: Tables!$L$61
Name notready: Tables!$G$68
Name ready: Tables!$J$68
Name score: Tables!$L$66

Sheet Attributions
B7: ATTRIBUTIONS AND ACKNOLWEDGEMENTS
B9: This tool can be cited as:
B10: Loo, Lynne and Howieson, Janet. (2026). Business Readiness Self-diagnostic Tool - Food Waste Prevention and Reduction Opportunity (PRO) Toolkit.
B11: Department of Primary Industries and Regional Development. https://dpird.wa.gov.au/foodwastepro.
B12: This tool was designed as part of a larger project, Validating WA Food Waste Opportunities, funded by the Department of Primary Industries and Regional Development (DPIRD)
B13: and supported by the End Food Waste Co-operative Research Centre and Curtin University.
B15: Validating WA Food Waste Opportunities Curtin research team:
B16: Project Lead: Dr Janet Howieson (Associate Professor, School of Molecular and Life Sciences, Curtin University)
B17: Research Associate: Lynne Loo (School of Molecular and Life Sciences, Curtin University)
B18: Research Associate: Dr Sruthi Nedumpillil Unnikrishnan (School of Molecular and Life Sciences, Curtin University)
B19: Research Associate: Dr Cassandra Chong (School of Molecular and Life Sciences, Curtin University)
B21: Contact details:
... B24: DPIRD Food Industry Innovation Team - foodindustryinnovation@dpird.wa.gov.au

Sheet Intro
B2: BUSINESS READINESS SELF-DIAGNOSTIC TOOL - INTRODUCTION
B5: What is the purpose of this diagnostic tool?
B6: The purpose of this tool is to help businesseses:
B7: - Assess readiness to develop and implement food waste (FW) reduction practices, either in day-to-day operations or as a new business unit.
B8: - Understand the types of FW reduction practices that can be implemented in the near-term based on ability to invest time, capital, and resources.
B9: - Understand the approximate timeline and factors required to implement various FW reduction practices.
B11: Why should I do this self-diagnostic?
B12: Not all FW reduction practices require the same amount of capital investment, time, and resources.
B14: For example, developing new products (even simple ones) from lower-grade food or by-products is often very capital-intensive and requires a lot
B15: of time and resource investment. It can be a risky and long-term undertaking before products can be launched on the market.
B17: Not all businesses are actually in a position to undertake new product development. By understanding your current operational and financial
B18: readiness to reduce FW, you can save your business a lot of time and money.
... B21: business operations in the near-term.
B23: How long will it take? | M23: Get started
B24: The self-diagnostic contains eight (8) questions and should take no longer than 10 minutes to complete.

Sheet Survey
C2: BUSINESS READINESS SELF-DIAGNOSTIC TOOL
C4: Do you have any goals or objectives you want to achieve by going through the Food Waste PRO process? List them here:
C6: Examples: Fact finding/ideation. Reducing amount of by-products that create a storage bottleneck. Understanding if value-adding is profitable.
C12: Select answers to each question from the drop-down menus, then click 'Show Results' at the bottom of the page.
C14: 1. | D14: My core business is in:
C17: 2. | D17: I am interested in developing new products to sell into food, cosmetic, nutraceutical,
D18: pharmaceutical, or other industries in the next 1-3 years using second-grade or
D19: processing grade food or by-products generated from existing processes.
C22: 3. | D22: My business has access to an existing market that would readily buy my upcycled product.
C25: 4. | D25: My business has existing space or access to space that can be dedicated to additional
D26: equipment or new processing lines, if required.
C29: 5. | D29: How much capital is your business ready to invest in implementing new practices?
D30: This includes investment for developing new products.
C33: 6. | D33: How many hours per week (i.e. staff or personal time) can your business dedicate to
D34: testing and implementing new practices, or developing new products in the
D35: next 12-24 months? Time can be split between multiple staff.
C38: 7. | D38: Do you have staff members at all levels of your business (i.e. executives, middle managers,
D39: production/floor staff) that can support, champion, and implement new practices?
C42: 8. | D42: Have you mapped the levels of waste and points where it is generated along your process?
G45: Show Results

Sheet Results
B2: RESULTS OF FOOD WASTE REDUCTION SELF-ASSESSMENT TOOL
B4: How to interpret your results
B5: On this page, we have listed some general solutions for reducing food waste. These are not tailored to your business.
B7: Solutions such as engaging third parties for waste removal (including FOGO), animal feed, or food rescue donations are not included on the list as these generally do not require any significant investment (time, resources, capital) to implement.
B9: In the 'Your Results' column, indicators of your business' readiness to attempt the listed solution in the near-term (i.e. 1-3 years) are automatically generated based on the answers you provided in the tool. Readiness levels are highlighted according to
B10: a trafflic light system (e.g. green for 'go').
B12: The results on this page will change in line with any answers that you change in the tool. It is recommended that you print this page or save as a PDF if you wish to save the results.
B13: You will use these results in Step 4 (Desktop Review) and Step 5 (Pre-feasibility)
B15: You may also want to re-assess the goals or objectives you listed at the beginning of the survey in the box provided below.
B17: Solutions | J17: Your Results | L17: Other comments (automatically generated)
B18: Prevention strategies | C18: =Tables!K69 -> Staff training and awareness education | J18: =Tables!M69 | L18: =Tables!P69
C19: =Tables!K70 -> Changing production methods to reduce waste | J19: =Tables!M70
C20: =Tables!K71 -> Shelf-life extension R&D | J20: =Tables!M71
C21: =Tables!K72 -> Changing procurement, logistics, and operational solutions | J21: =Tables!M72
C22: =Tables!K73 -> New food product for human consumption - contract manufacture into wholesale B2B market | J22: =Tables!M73
C23: =Tables!K74 -> New food product for human consumption - self-manufacture into wholesale B2B market | J23: =Tables!M74
C24: =Tables!K75 -> New food product for human consumption - contract manufacture into retail market | J24: =Tables!M75
C25: =Tables!K76 -> New food product for human consumption - self-manufacture into retail market | J25: =Tables!M76
B26: Reuse and Recycle Strategies | C26: =Tables!K77 -> Re-purposing aesthetically imperfect food (e.g. packaged carrot sticks) | J26: =Tables!M77
C27: =Tables!K78 -> Composting (on-site/in-house) | J27: =Tables!M78
C28: =Tables!K79 -> Vermicompost (on-site/in-house) | J28: =Tables!M79
C29: =Tables!K80 -> Biotechnology solutions for animal feed (on-site/in-house) | J29: =Tables!M80
C30: =Tables!K81 -> Use in pet food or treats - contract third party | J30: =Tables!M81
B31: Reprocessing strategies | C31: =Tables!K82 -> Extracting compounds of interest (e.g. fibre, pectin, protein, antioxidants) - contract manufacture into wholesale market | J31: =Tables!M82
C32: =Tables!K83 -> Extracting compounds of interest (e.g. fibre, pectin, protein, antioxidants) - self-manufacture into wholesale market | J32: =Tables!M83
C33: =Tables!K84 -> Extracting compounds of interest (e.g. fibre, pectin, protein, antioxidants) - contract manufacture into retail market | J33: =Tables!M84
C34: =Tables!K85 -> Extracting compounds of interest (e.g. fibre, pectin, protein, antioxidants) - self-manufacture into retail market | J34: =Tables!M85
C35: =Tables!K86 -> Conversion to cosmetic, pharmaceutical or nutraceutical products - contract manufacture into B2B wholesale markets | J35: =Tables!M86 | N35: Go back to survey
C36: =Tables!K87 -> Conversion to cosmetic, pharmaceutical or nutraceutical products - self-manufacture into B2B wholesale markets | J36: =Tables!M87
C37: =Tables!K88 -> Conversion to cosmetic, pharmaceutical or nutraceutical products - contract manufacture into retail market | J37: =Tables!M88
C38: =Tables!K89 -> Conversion to cosmetic, pharmaceutical or nutraceutical products - self-manufacture into retail market | J38: =Tables!M89
C39: =Tables!K90 -> Industrial uses (e.g. processing for bio-fuels, packaging, bio-materials etc.) | J39: =Tables!M90
B40: Recovery strategies | C40: =Tables!K91 -> Biochar (on-site or in-house) | J40: =Tables!M91
C41: =Tables!K92 -> Incineration or anaerobic digestion for energy recovery | J41: =Tables!M92
B44: Have your goals or objectives changed since completing the survey and seeing your results? List them here if they have changed:

Sheet Tables
C2: SELF-ASSESSED SCREENING TOOL
H4: POINT | K4: ANSWER | L4: =Survey!F14 -> 0
C5: 1 | D5: My core business is in: | F5: Primary production (e.g. growing, wild-harvest, livestock etc.) | H5: 1 | K5: RESULT | L5: =IF(answer1=F5,H5,0) -> 0
F6: Primary production and post-harvest processing | H6: 1 | L6: =IF(answer1=F6,H6,0) -> 0
F7: Fishing and post-harvest processing | H7: 1 | L7: =IF(answer1=F7,H7,0) -> 0
F8: Processing only (primary processing) | H8: 1 | L8: =IF(answer1=F8,H8,0) -> 0
F9: Food and beverage manufacturing (secondary processing) | H9: 2 | L9: =IF(answer1=F9,H9,0) -> 0
F10: Distribution, including export | H10: 1 | L10: =IF(answer1=F10,H10,0) -> 0
F11: Food retail | H11: 2 | L11: =IF(answer1=F11,H11,0) -> 0
F12: Food service | H12: 2 | L12: =IF(answer1=F12,H12,0) -> 0
F13: Vertically integrated grower/processor and distribution/retail | H13: 3 | L13: =IF(answer1=F13,H13,0) -> 0
C15: 2 | D15: I am interested in developing new products to sell into food, cosmetic, nutraceutical, | K15: ANSWER | L15: =Survey!G19 -> 0
D16: pharmaceutical, or other industries using second-grade or processing grade food or
D17: by-products generated from existing processes.
F18: Yes - Answer question 3 | H18: 0 | K18: RESULT | L18: =IF(answer2=F18,H18,0) -> 0
F19: No - Answer n/a for question 3 | H19: 0 | L19: =IF(answer2=F19,H19,0) -> 0
C21: 3 | D21: My business has access to an existing market that would readily buy my upcycled product. | K21: ANSWER | L21: =Survey!G22 -> 0
F22: Yes | H22: 3 | K22: RESULT | L22: =IF(answer3=F22,H22,0) -> 0
F23: No | H23: 1 | L23: =IF(answer3=F23,H23,0) -> 0
F24: Unsure | H24: 0 | L24: =IF(answer3=F24,H24,0) -> 0
F25: n/a | H25: 0 | L25: =IF(answer3=F25,H25,0) -> 0
C27: 4 | D27: My business has existing space or access to space that can be dedicated to additional | K27: ANSWER | L27: =Survey!G26 -> 0
D28: equipment or new processing lines, if required.
F29: Yes | H29: 3 | K29: RESULT | L29: =IF(answer4=F29,H29,0) -> 0
F30: No | H30: 1 | L30: =IF(answer4=F30,H30,0) -> 0
F31: Unsure | H31: 0 | L31: =IF(answer4=F31,H31,0) -> 0
F32: n/a | H32: 0 | L32: =IF(answer4=F32,H32,0) -> 0
C34: 5 | D34: How much capital is your business ready to invest in implementing new practices? | K34: ANSWER | L34: =Survey!G30 -> 0
D35: This includes investment for developing new products.
F36: $0 to $5,000 | H36: 0 | K36: RESULT | L36: =IF(answer5=F36,H36,0) -> 0
F37: $5,001 to $20,000 | H37: 0 | L37: =IF(answer5=F37,H37,0) -> 0
F38: $20,001 to $50,000 | H38: 1 | L38: =IF(answer5=F38,H38,0) -> 0
F39: $50,000 to $150,000 | H39: 2 | L39: =IF(answer5=F39,H39,0) -> 0
F40: $150,001 to $250,000 | H40: 3 | L40: =IF(answer5=F40,H40,0) -> 0
F41: $250,001 to $500,000 | H41: 4
F42: ≥ $500,001 | H42: 5 | L42: =IF(answer5=F42,H42,0) -> 0
F43: Unsure | H43: 0 | L43: =IF(answer5=F43,H43,0) -> 0
C45: 6 | D45: How many hours per week (i.e. staff or personal time) can your business dedicate to | K45: ANSWER | L45: =Survey!G35 -> 0
D46: testing and implementing new practices, or developing new products?
D47: Time can be split between multiple staff.
...
